BEGIN:VCALENDAR
VERSION:2.0
PRODID:-//Aachener Narrenzunft 1892 e.V. - ECPv6.8.3//NONSGML v1.0//EN
CALSCALE:GREGORIAN
METHOD:PUBLISH
X-ORIGINAL-URL:http://aachenernarrenzunft.de
X-WR-CALDESC:Veranstaltungen für Aachener Narrenzunft 1892 e.V.
REFRESH-INTERVAL;VALUE=DURATION:PT1H
X-Robots-Tag:noindex
X-PUBLISHED-TTL:PT1H
BEGIN:VTIMEZONE
TZID:UTC
BEGIN:STANDARD
TZOFFSETFROM:+0000
TZOFFSETTO:+0000
TZNAME:UTC
DTSTART:20250101T000000
END:STANDARD
END:VTIMEZONE
BEGIN:VEVENT
DTSTART;TZID=UTC:20250201T191100
DTEND;TZID=UTC:20250201T235500
DTSTAMP:20260421T150018
CREATED:20240103T085914Z
LAST-MODIFIED:20240522T095230Z
UID:180-1738437060-1738454100@aachenernarrenzunft.de
SUMMARY:Sitzung Aachener Narrenzunft 2025
DESCRIPTION:
URL:http://aachenernarrenzunft.de/event/sitzung-2025/
LOCATION:Tanzschule Schröder\, Adalbertsteinweg 216\, Aachen\, 52066
END:VEVENT
END:VCALENDAR